BEGIN:VCALENDAR
VERSION:2.0
PRODID:-//UIAA - ECPv6.15.20//NONSGML v1.0//EN
CALSCALE:GREGORIAN
METHOD:PUBLISH
X-WR-CALNAME:UIAA
X-ORIGINAL-URL:https://www.theuiaa.org
X-WR-CALDESC:Events for UIAA
REFRESH-INTERVAL;VALUE=DURATION:PT1H
X-Robots-Tag:noindex
X-PUBLISHED-TTL:PT1H
BEGIN:VTIMEZONE
TZID:UTC
BEGIN:STANDARD
TZOFFSETFROM:+0000
TZOFFSETTO:+0000
TZNAME:UTC
DTSTART:20230101T000000
END:STANDARD
END:VTIMEZONE
BEGIN:VEVENT
DTSTART;VALUE=DATE:20240714
DTEND;VALUE=DATE:20240722
DTSTAMP:20260421T000349
CREATED:20240307T151749Z
LAST-MODIFIED:20240321T122443Z
UID:10000037-1720915200-1721606399@www.theuiaa.org
SUMMARY:Mountaineering Ireland Summer Alpine Meet
DESCRIPTION:Mountaineering Ireland will organise its annual Summer Alpine Meet from 14-21 July. \nAfter its last hugely popular and successful meet in Soelden in Austria\, the 2024 Mountaineering Ireland ‘Summer Alpine Meet’ is returning to the versatile and all-encompassing area of Ailefroide in the Dauphine Alps\, France. \nNestled at the foot of the Mont Pelvoux (3946 m) this beautiful\, small and rather quiet village is located in the 2nd largest French mountaineering area after Chamonix. The Dauphine Alps (meaning Dolphin) is one of France’s foremost areas for all mountain activities with three of France’s highest mountains outside of the Mont Blanc massif and many other fabulous peaks and glaciers. With spectacular\, high walking passes\, more than 100 peaks over 3\,000m and steep rock walls\, it is hardly surprising that walkers and mountaineers have been attracted to this region for more than a century. \nThe following activities are offered: Alpinism\, Rock Climbing\, Via Ferrata\, Walking \nThe course is supported by UIAGM Guides who instruct the Alpine Courses. \nFull details on the programme and further information can be found here. A 10% discount applies for bookings before 2 May.\nThe recommended gear list can be found here.\nThe official booking form is here. \n 
URL:https://www.theuiaa.org/event/mountaineering-ireland-summer-alpine-meet/
CATEGORIES:Youth
ATTACH;FMTTYPE=image/png:https://www.theuiaa.org/wp-content/uploads/2024/03/Screenshot-2024-03-07-at-15.28.28.png
ORGANIZER;CN="Mountaineering Ireland":MAILTO:jane@mountaineering.ie
END:VEVENT
END:VCALENDAR