BEGIN:VCALENDAR
VERSION:2.0
PRODID:-//UIAA - ECPv6.15.20//NONSGML v1.0//EN
CALSCALE:GREGORIAN
METHOD:PUBLISH
X-WR-CALNAME:UIAA
X-ORIGINAL-URL:https://www.theuiaa.org
X-WR-CALDESC:Events for UIAA
REFRESH-INTERVAL;VALUE=DURATION:PT1H
X-Robots-Tag:noindex
X-PUBLISHED-TTL:PT1H
BEGIN:VTIMEZONE
TZID:UTC
BEGIN:STANDARD
TZOFFSETFROM:+0000
TZOFFSETTO:+0000
TZNAME:UTC
DTSTART:20230101T000000
END:STANDARD
END:VTIMEZONE
BEGIN:VEVENT
DTSTART;VALUE=DATE:20240728
DTEND;VALUE=DATE:20240802
DTSTAMP:20260421T000508
CREATED:20231211T114209Z
LAST-MODIFIED:20240910T112536Z
UID:10000034-1722124800-1722556799@www.theuiaa.org
SUMMARY:2024 Summer World Congress of Mountain & Wilderness Medicine
DESCRIPTION:The 2024 Summer World Congress of Mountain & Wilderness Medicine is organised by the International Society and Mountain Medicine and the Wilderness Medical Society (WMS) and will be held from 28 July to 1 August in Snowbird\, Sandy\, Utah\, United States of America. \nThe UIAA Medical Commission will make its own presentation on 1 August. \nFor further details please see the following article. \nA review of the event can be found here. \nPlease also visit the dedicated website. Live streaming of the event will be made available. \n\n\n\n 
URL:https://www.theuiaa.org/event/2024-summer-world-congress-of-mountain-wilderness-medicine/
CATEGORIES:Medical
ATTACH;FMTTYPE=image/jpeg:https://www.theuiaa.org/wp-content/uploads/2024/05/WMS-Summer-24-Snowbird-Square-v1-web.jpg
END:VEVENT
END:VCALENDAR