BEGIN:VCALENDAR
VERSION:2.0
PRODID:-//UIAA - ECPv6.15.20//NONSGML v1.0//EN
CALSCALE:GREGORIAN
METHOD:PUBLISH
X-ORIGINAL-URL:https://www.theuiaa.org
X-WR-CALDESC:Events for UIAA
REFRESH-INTERVAL;VALUE=DURATION:PT1H
X-Robots-Tag:noindex
X-PUBLISHED-TTL:PT1H
BEGIN:VTIMEZONE
TZID:UTC
BEGIN:STANDARD
TZOFFSETFROM:+0000
TZOFFSETTO:+0000
TZNAME:UTC
DTSTART:20240101T000000
END:STANDARD
END:VTIMEZONE
BEGIN:VEVENT
DTSTART;VALUE=DATE:20251025
DTEND;VALUE=DATE:20251027
DTSTAMP:20260424T112818
CREATED:20250624T103133Z
LAST-MODIFIED:20250805T080925Z
UID:10000094-1761350400-1761523199@www.theuiaa.org
SUMMARY:2nd UIAA Mountain Sports Symposium
DESCRIPTION:Together with the hosting association\, the Kosovo Mountaineering and Sport Climbing Federation (FBNSK)\, the UIAA will hold a second edition of the Mountain Sports Symposium\, from 25-26 October 2025\, and running alongside its General Assembly. \nThe Symposium is targeted primarily at climbers and mountaineers\, whether beginners or experts\, from Kosovo and neighbouring countries in the Balkan region\, who wish to explore mountain medicine and safety topics from an international perspective. The event is partnered by the Petzl Foundation. \nAfter a successful inaugural event last April in Bariloche\, Argentina where the UIAA Medical Commission together with experts on training\, and safety topics imparted their knowledge and know-how during a three-day course\, the UIAA was approached to hold a similar event in Kosovo and as part of its General Assembly programme. \nPlease register from the following link. The event is open to a maximum number of 70 participants\, and on a first come\, first served basis. Further details here. \nThe official website page for the event is here. \nPhoto credit: An image from the mountains in Kosovo. Photo credit: FBNSK
URL:https://www.theuiaa.org/event/2nd-uiaa-mountain-sports-symposium/
CATEGORIES:Medical,Membership,Safety
ATTACH;FMTTYPE=image/jpeg:https://www.theuiaa.org/wp-content/uploads/2025/07/MSS_Kosovo_Hut_web.jpg
END:VEVENT
END:VCALENDAR