BEGIN:VCALENDAR
VERSION:2.0
PRODID:-//UIAA - ECPv6.15.20//NONSGML v1.0//EN
CALSCALE:GREGORIAN
METHOD:PUBLISH
X-WR-CALNAME:UIAA
X-ORIGINAL-URL:https://www.theuiaa.org
X-WR-CALDESC:Events for UIAA
REFRESH-INTERVAL;VALUE=DURATION:PT1H
X-Robots-Tag:noindex
X-PUBLISHED-TTL:PT1H
BEGIN:VTIMEZONE
TZID:UTC
BEGIN:STANDARD
TZOFFSETFROM:+0000
TZOFFSETTO:+0000
TZNAME:UTC
DTSTART:20220101T000000
END:STANDARD
END:VTIMEZONE
BEGIN:VEVENT
DTSTART;VALUE=DATE:20231020
DTEND;VALUE=DATE:20231022
DTSTAMP:20260421T073840
CREATED:20230828T091508Z
LAST-MODIFIED:20231009T133339Z
UID:10000001-1697760000-1697932799@www.theuiaa.org
SUMMARY:UIAA General Assembly 2023
DESCRIPTION:The 2023 UIAA General Assembly takes place from 20-21 October in Trabzon\, Turkey. \n\n\n\n\n\n\n\n\nThe annual UIAA General Assembly is the largest\, and most important\, gathering of UIAA member federations\, commissions\, representatives and partners. At the General Assembly\, hosted by a national federaton\, key decisions are made concerning UIAA’s role\, its activities and budget and elections are held. \n\n\n\n\n\n\n\n\n\n\n\n\n\n\n\nDraft ProgrammeDraft Agenda
URL:https://www.theuiaa.org/event/ga-2023/
CATEGORIES:Membership
ATTACH;FMTTYPE=image/jpeg:https://www.theuiaa.org/wp-content/uploads/2023/09/Turkey_UIAA_2023-WEB.jpg
END:VEVENT
END:VCALENDAR