BEGIN:VCALENDAR
VERSION:2.0
PRODID:-//UIAA - ECPv6.15.20//NONSGML v1.0//EN
CALSCALE:GREGORIAN
METHOD:PUBLISH
X-ORIGINAL-URL:https://www.theuiaa.org
X-WR-CALDESC:Events for UIAA
REFRESH-INTERVAL;VALUE=DURATION:PT1H
X-Robots-Tag:noindex
X-PUBLISHED-TTL:PT1H
BEGIN:VTIMEZONE
TZID:Europe/Zurich
BEGIN:DAYLIGHT
TZOFFSETFROM:+0100
TZOFFSETTO:+0200
TZNAME:CEST
DTSTART:20230326T010000
END:DAYLIGHT
BEGIN:STANDARD
TZOFFSETFROM:+0200
TZOFFSETTO:+0100
TZNAME:CET
DTSTART:20231029T010000
END:STANDARD
BEGIN:DAYLIGHT
TZOFFSETFROM:+0100
TZOFFSETTO:+0200
TZNAME:CEST
DTSTART:20240331T010000
END:DAYLIGHT
BEGIN:STANDARD
TZOFFSETFROM:+0200
TZOFFSETTO:+0100
TZNAME:CET
DTSTART:20241027T010000
END:STANDARD
BEGIN:DAYLIGHT
TZOFFSETFROM:+0100
TZOFFSETTO:+0200
TZNAME:CEST
DTSTART:20250330T010000
END:DAYLIGHT
BEGIN:STANDARD
TZOFFSETFROM:+0200
TZOFFSETTO:+0100
TZNAME:CET
DTSTART:20251026T010000
END:STANDARD
END:VTIMEZONE
BEGIN:VEVENT
DTSTART;TZID=Europe/Zurich:20240625T120000
DTEND;TZID=Europe/Zurich:20240625T143000
DTSTAMP:20260420T205244
CREATED:20231129T112632Z
LAST-MODIFIED:20231129T112632Z
UID:10000025-1719316800-1719325800@www.theuiaa.org
SUMMARY:UIAA Executive Committee Meeting
DESCRIPTION:The UIAA Executive Committee will host its an online meeting on Tuesday 25 June. \nFor further details please contact the UIAA Office.
URL:https://www.theuiaa.org/event/uiaa-executive-committee-meeting-3/
CATEGORIES:Membership,UIAA Meeting
ATTACH;FMTTYPE=image/jpeg:https://www.theuiaa.org/wp-content/uploads/2023/10/Bern_Switzerland.jpg
END:VEVENT
END:VCALENDAR