BEGIN:VCALENDAR
VERSION:2.0
PRODID:-//UIAA - ECPv6.15.20//NONSGML v1.0//EN
CALSCALE:GREGORIAN
METHOD:PUBLISH
X-ORIGINAL-URL:https://www.theuiaa.org
X-WR-CALDESC:Events for UIAA
REFRESH-INTERVAL;VALUE=DURATION:PT1H
X-Robots-Tag:noindex
X-PUBLISHED-TTL:PT1H
BEGIN:VTIMEZONE
TZID:UTC
BEGIN:STANDARD
TZOFFSETFROM:+0000
TZOFFSETTO:+0000
TZNAME:UTC
DTSTART:20230101T000000
END:STANDARD
END:VTIMEZONE
BEGIN:VEVENT
DTSTART;VALUE=DATE:20240203
DTEND;VALUE=DATE:20240204
DTSTAMP:20260422T055615
CREATED:20231121T155647Z
LAST-MODIFIED:20231121T155647Z
UID:10000016-1706918400-1707004799@www.theuiaa.org
SUMMARY:UIAA Ice Climbing Continental Open and Youth Open - Oulu\, Finland
DESCRIPTION:The 2023-2024 UIAA Ice Climbing season continues with a Continental Open and Youth Open event held in Oulu\, Finland. \nThe UIAA Ice Climbing World Tour is partnered by Outdoor Research. \nPlease visit the UIAA Ice Climbing website for further information.
URL:https://www.theuiaa.org/event/uiaa-ice-climbing-continental-open-and-youth-open-oulu-finland/
CATEGORIES:Ice Climbing,Youth
ATTACH;FMTTYPE=image/jpeg:https://www.theuiaa.org/wp-content/uploads/2023/09/Finland_2023_UIAA-web.jpg
END:VEVENT
END:VCALENDAR