BEGIN:VCALENDAR
VERSION:2.0
PRODID:-//UIAA - ECPv6.15.20//NONSGML v1.0//EN
CALSCALE:GREGORIAN
METHOD:PUBLISH
X-ORIGINAL-URL:https://www.theuiaa.org
X-WR-CALDESC:Events for UIAA
REFRESH-INTERVAL;VALUE=DURATION:PT1H
X-Robots-Tag:noindex
X-PUBLISHED-TTL:PT1H
BEGIN:VTIMEZONE
TZID:UTC
BEGIN:STANDARD
TZOFFSETFROM:+0000
TZOFFSETTO:+0000
TZNAME:UTC
DTSTART:20240101T000000
END:STANDARD
END:VTIMEZONE
BEGIN:VEVENT
DTSTART;VALUE=DATE:20260122
DTEND;VALUE=DATE:20260125
DTSTAMP:20260421T225746
CREATED:20251105T155511Z
LAST-MODIFIED:20251105T155822Z
UID:10000096-1769040000-1769299199@www.theuiaa.org
SUMMARY:2026 UIAA Ice Climbing World Cup - Saas-Fee\, Switzerland
DESCRIPTION:Round 2 of the UIAA Ice Climbing World Cup season will be held in Saas-Fee\, Switzerland from 22-24 January. The programme also includes the European Championships. \nThe iconic ice tower in the Swiss Alps has hosted competitions since the early 2000s.  \nThe UIAA will offer livestreaming from the competition which will crown winners in the lead and speed disciplines. \nThe event is organised in collaboration with UIAA member association\, Swiss Alpine Club (SAC). \nFull details here. \n 
URL:https://www.theuiaa.org/event/2026-uiaa-ice-climbing-world-cup-saas-fee-switzerland/
CATEGORIES:Ice Climbing
ATTACH;FMTTYPE=image/jpeg:https://www.theuiaa.org/wp-content/uploads/2025/11/Saas-Fee-calendar-web-2025.jpg
END:VEVENT
BEGIN:VEVENT
DTSTART;VALUE=DATE:20250123
DTEND;VALUE=DATE:20250126
DTSTAMP:20260421T225746
CREATED:20241206T153908Z
LAST-MODIFIED:20241206T153948Z
UID:10000044-1737590400-1737849599@www.theuiaa.org
SUMMARY:2025 UIAA Ice Climbing World Cup - Saas-Fee\, Switzerland
DESCRIPTION:Round 2 of the UIAA Ice Climbing World Cup season will be held in Saas-Fee\, Switzerland from 23-25 January. \nThe iconic ice tower in the Swiss Alps has hosted competitions since the early 2000s. This year marks the 25th anniversary of the first event. \nThe UIAA will offer livestreaming from the competition which will crown winners in the lead and speed disciplines. \nThe event is organised in collaboration with UIAA member association\, Swiss Alpine Club (SAC). \nFull details here. \n 
URL:https://www.theuiaa.org/event/2025-uiaa-ice-climbing-world-cup-saas-fee-2025/
CATEGORIES:Ice Climbing
ATTACH;FMTTYPE=image/jpeg:https://www.theuiaa.org/wp-content/uploads/2023/10/SaasFee-2020-web.jpg
END:VEVENT
END:VCALENDAR